Workbook

Sheet Gen Audit & Contest Info
A1: County:
A2: Election Date:
A3: Audit units selected for each round of audits, i.e. Precincts, Multi-Precinct Polling Locations, Individual Machines, Contests:
A4: Countywide or otherwise locally selected contests to be audited:
A5: Descriptions of any waivers requested:
A6: SOS decision RE: requested waiver(s):
A7: Total time spent on audit (including prep.):
A8: Expenses
A9: Cost of Audit Supplies:
A10: Audit Salaries Paid:
A11: TOTAL COST OF AUDIT:

Sheet Counts-Ballots
A1: Audit Unit: Precinct | B1: Audit Unit: Multi-Precinct Polling Location | C1: Audit Unit: Voting System | D1: If Audit Unit is "Other", describe and explain: | E1: Number of voters casting votes in this unit (from poll/signature book) | F1: Official CertificationNumber of absentee ballots counted | G1: Official Certification Number of provisional ballots counted | H1: Official Certification Number of 17 year old ballots counted | I1: Official CertificationNumber of Election Day ballots counted | J1: Auto-Fills with Total number of ballots counted (Column F through Column H) | K1: Audit Number of absentee ballots counted | L1: Audit Number of provisional ballots counted | M1: Audit Number of 17 year old ballots counted | N1: Audit Number of Election Day Ballots counted | O1: Auto-Fills with Total number of ballots counted (Column J through Column L) | P1: Auto-Fills with "DISCREPANCY" if the Number of Ballots counted from the Official Certification (I) Does Not Equal the Total number of Ballots counted in the Audit (M). The cells should be blank. | Q1: Explain any discrepancy:
J2: =SUM(F2:I2) -> 0 | O2: =SUM(K2:N2) -> 0 | P2: =IF(J2<>O2,"DISCREPANCY","")
J3: =SUM(F3:I3) -> 0 | O3: =SUM(K3:N3) -> 0 | P3: =IF(J3<>O3,"DISCREPANCY","")
J4: =SUM(F4:I4) -> 0 | O4: =SUM(K4:N4) -> 0 | P4: =IF(J4<>O4,"DISCREPANCY","")
J5: =SUM(F5:I5) -> 0 | O5: =SUM(K5:N5) -> 0 | P5: =IF(J5<>O5,"DISCREPANCY","")
J6: =SUM(F6:I6) -> 0 | O6: =SUM(K6:N6) -> 0 | P6: =IF(J6<>O6,"DISCREPANCY","")
J7: =SUM(F7:I7) -> 0 | O7: =SUM(K7:N7) -> 0 | P7: =IF(J7<>O7,"DISCREPANCY","")
J8: =SUM(F8:I8) -> 0 | O8: =SUM(K8:N8) -> 0 | P8: =IF(J8<>O8,"DISCREPANCY","")
J9: =SUM(F9:I9) -> 0 | O9: =SUM(K9:N9) -> 0 | P9: =IF(J9<>O9,"DISCREPANCY","")
J10: =SUM(F10:I10) -> 0 | O10: =SUM(K10:N10) -> 0 | P10: =IF(J10<>O10,"DISCREPANCY","")
J11: =SUM(F11:I11) -> 0 | O11: =SUM(K11:N11) -> 0 | P11: =IF(J11<>O11,"DISCREPANCY","")
J12: =SUM(F12:I12) -> 0 | O12: =SUM(K12:N12) -> 0 | P12: =IF(J12<>O12,"DISCREPANCY","")
J13: =SUM(F13:I13) -> 0 | O13: =SUM(K13:N13) -> 0 | P13: =IF(J13<>O13,"DISCREPANCY","")
... J999: =SUM(F999:I999) -> 0 | O999: =SUM(K999:N999) -> 0 | P999: =IF(J999<>O999,"DISCREPANCY","")

Sheet Delegates-at-Large
A1: Audit Unit: Precinct (auto-fills from sheet 2) | B1: Audit Unit: Multi-Precinct Polling Location (auto-fills from sheet 2) | C1: Audit Unit: Other (auto-fills from sheet 2) | D1: If Audit Unit is "Other" describe and explain: (auto-fills from sheet 2) | E1: Official Certification Hillary Clinton | F1: Official Certification total for Roque “Rocky” De La Fuente | G1: Official Certification total for Bernie Sanders | H1: Auto-Fills with Total Votes from Official Certification (Columns E through G) | I1: Audit total for Hillary Clinton | J1: Audit total for Roque “Rocky” De La Fuente | K1: Audit total for Bernie Sanders | L1: Auto-Fills with Total Votes from Audit (Columns I through K) | M1: Auto-Fills with "DISCREPANCY" if total votes from Official Certification (Column H) does not match total votes from Audit (Column L) | N1: Explain any discrepancy:
A2: =IF(ISBLANK('Counts-Ballots'!A2),"",'Counts-Ballots'!A2) | B2: =IF(ISBLANK('Counts-Ballots'!B2),"",'Counts-Ballots'!B2) | C2: =IF(ISBLANK('Counts-Ballots'!C2),"",'Counts-Ballots'!C2) | D2: =IF(ISBLANK('Counts-Ballots'!D2),"",'Counts-Ballots'!D2) | H2: =SUM(E2:G2) -> 0 | L2: =SUM(I2:K2) -> 0 | M2: =IF(H2<>L2,"DISCREPANCY","")
A3: =IF(ISBLANK('Counts-Ballots'!A3),"",'Counts-Ballots'!A3) | B3: =IF(ISBLANK('Counts-Ballots'!B3),"",'Counts-Ballots'!B3) | C3: =IF(ISBLANK('Counts-Ballots'!C3),"",'Counts-Ballots'!C3) | D3: =IF(ISBLANK('Counts-Ballots'!D3),"",'Counts-Ballots'!D3) | H3: =SUM(E3:G3) -> 0 | L3: =SUM(I3:K3) -> 0 | M3: =IF(H3<>L3,"DISCREPANCY","")
A4: =IF(ISBLANK('Counts-Ballots'!A4),"",'Counts-Ballots'!A4) | B4: =IF(ISBLANK('Counts-Ballots'!B4),"",'Counts-Ballots'!B4) | C4: =IF(ISBLANK('Counts-Ballots'!C4),"",'Counts-Ballots'!C4) | D4: =IF(ISBLANK('Counts-Ballots'!D4),"",'Counts-Ballots'!D4) | H4: =SUM(E4:G4) -> 0 | L4: =SUM(I4:K4) -> 0 | M4: =IF(H4<>L4,"DISCREPANCY","")
A5: =IF(ISBLANK('Counts-Ballots'!A5),"",'Counts-Ballots'!A5) | B5: =IF(ISBLANK('Counts-Ballots'!B5),"",'Counts-Ballots'!B5) | C5: =IF(ISBLANK('Counts-Ballots'!C5),"",'Counts-Ballots'!C5) | D5: =IF(ISBLANK('Counts-Ballots'!D5),"",'Counts-Ballots'!D5) | H5: =SUM(E5:G5) -> 0 | L5: =SUM(I5:K5) -> 0 | M5: =IF(H5<>L5,"DISCREPANCY","")
A6: =IF(ISBLANK('Counts-Ballots'!A6),"",'Counts-Ballots'!A6) | B6: =IF(ISBLANK('Counts-Ballots'!B6),"",'Counts-Ballots'!B6) | C6: =IF(ISBLANK('Counts-Ballots'!C6),"",'Counts-Ballots'!C6) | D6: =IF(ISBLANK('Counts-Ballots'!D6),"",'Counts-Ballots'!D6) | H6: =SUM(E6:G6) -> 0 | L6: =SUM(I6:K6) -> 0 | M6: =IF(H6<>L6,"DISCREPANCY","")
A7: =IF(ISBLANK('Counts-Ballots'!A7),"",'Counts-Ballots'!A7) | B7: =IF(ISBLANK('Counts-Ballots'!B7),"",'Counts-Ballots'!B7) | C7: =IF(ISBLANK('Counts-Ballots'!C7),"",'Counts-Ballots'!C7) | D7: =IF(ISBLANK('Counts-Ballots'!D7),"",'Counts-Ballots'!D7) | H7: =SUM(E7:G7) -> 0 | L7: =SUM(I7:K7) -> 0 | M7: =IF(H7<>L7,"DISCREPANCY","")
A8: =IF(ISBLANK('Counts-Ballots'!A8),"",'Counts-Ballots'!A8) | B8: =IF(ISBLANK('Counts-Ballots'!B8),"",'Counts-Ballots'!B8) | C8: =IF(ISBLANK('Counts-Ballots'!C8),"",'Counts-Ballots'!C8) | D8: =IF(ISBLANK('Counts-Ballots'!D8),"",'Counts-Ballots'!D8) | H8: =SUM(E8:G8) -> 0 | L8: =SUM(I8:K8) -> 0 | M8: =IF(H8<>L8,"DISCREPANCY","")
A9: =IF(ISBLANK('Counts-Ballots'!A9),"",'Counts-Ballots'!A9) | B9: =IF(ISBLANK('Counts-Ballots'!B9),"",'Counts-Ballots'!B9) | C9: =IF(ISBLANK('Counts-Ballots'!C9),"",'Counts-Ballots'!C9) | D9: =IF(ISBLANK('Counts-Ballots'!D9),"",'Counts-Ballots'!D9) | H9: =SUM(E9:G9) -> 0 | L9: =SUM(I9:K9) -> 0 | M9: =IF(H9<>L9,"DISCREPANCY","")
A10: =IF(ISBLANK('Counts-Ballots'!A10),"",'Counts-Ballots'!A10) | B10: =IF(ISBLANK('Counts-Ballots'!B10),"",'Counts-Ballots'!B10) | C10: =IF(ISBLANK('Counts-Ballots'!C10),"",'Counts-Ballots'!C10) | D10: =IF(ISBLANK('Counts-Ballots'!D10),"",'Counts-Ballots'!D10) | H10: =SUM(E10:G10) -> 0 | L10: =SUM(I10:K10) -> 0 | M10: =IF(H10<>L10,"DISCREPANCY","")
A11: =IF(ISBLANK('Counts-Ballots'!A11),"",'Counts-Ballots'!A11) | B11: =IF(ISBLANK('Counts-Ballots'!B11),"",'Counts-Ballots'!B11) | C11: =IF(ISBLANK('Counts-Ballots'!C11),"",'Counts-Ballots'!C11) | D11: =IF(ISBLANK('Counts-Ballots'!D11),"",'Counts-Ballots'!D11) | H11: =SUM(E11:G11) -> 0 | L11: =SUM(I11:K11) -> 0 | M11: =IF(H11<>L11,"DISCREPANCY","")
A12: =IF(ISBLANK('Counts-Ballots'!A12),"",'Counts-Ballots'!A12) | B12: =IF(ISBLANK('Counts-Ballots'!B12),"",'Counts-Ballots'!B12) | C12: =IF(ISBLANK('Counts-Ballots'!C12),"",'Counts-Ballots'!C12) | D12: =IF(ISBLANK('Counts-Ballots'!D12),"",'Counts-Ballots'!D12) | H12: =SUM(E12:G12) -> 0 | L12: =SUM(I12:K12) -> 0 | M12: =IF(H12<>L12,"DISCREPANCY","")
A13: =IF(ISBLANK('Counts-Ballots'!A13),"",'Counts-Ballots'!A13) | B13: =IF(ISBLANK('Counts-Ballots'!B13),"",'Counts-Ballots'!B13) | C13: =IF(ISBLANK('Counts-Ballots'!C13),"",'Counts-Ballots'!C13) | D13: =IF(ISBLANK('Counts-Ballots'!D13),"",'Counts-Ballots'!D13) | H13: =SUM(E13:G13) -> 0 | L13: =SUM(I13:K13) -> 0 | M13: =IF(H13<>L13,"DISCREPANCY","")
... A50: =IF(ISBLANK('Counts-Ballots'!A50),"",'Counts-Ballots'!A50) | B50: =IF(ISBLANK('Counts-Ballots'!B50),"",'Counts-Ballots'!B50) | C50: =IF(ISBLANK('Counts-Ballots'!C50),"",'Counts-Ballots'!C50) | D50: =IF(ISBLANK('Counts-Ballots'!D50),"",'Counts-Ballots'!D50) | H50: =SUM(E50:G50) -> 0 | L50: =SUM(I50:K50) -> 0 | M50: =IF(H50<>L50,"DISCREPANCY","")
A51: =IF(ISBLANK('Counts-Ballots'!A51),"",'Counts-Ballots'!A51) | B51: =IF(ISBLANK('Counts-Ballots'!B51),"",'Counts-Ballots'!B51) | C51: =IF(ISBLANK('Counts-Ballots'!C51),"",'Counts-Ballots'!C51) | H51: =SUM(E51:G51) -> 0 | L51: =SUM(I51:K51) -> 0 | M51: =IF(H51<>L51,"DISCREPANCY","")
A52: =IF(ISBLANK('Counts-Ballots'!A52),"",'Counts-Ballots'!A52) | B52: =IF(ISBLANK('Counts-Ballots'!B52),"",'Counts-Ballots'!B52) | C52: =IF(ISBLANK('Counts-Ballots'!C52),"",'Counts-Ballots'!C52) | H52: =SUM(E52:G52) -> 0 | L52: =SUM(I52:K52) -> 0 | M52: =IF(H52<>L52,"DISCREPANCY","")
A53: =IF(ISBLANK('Counts-Ballots'!A53),"",'Counts-Ballots'!A53) | B53: =IF(ISBLANK('Counts-Ballots'!B53),"",'Counts-Ballots'!B53) | C53: =IF(ISBLANK('Counts-Ballots'!C53),"",'Counts-Ballots'!C53) | H53: =SUM(E53:G53) -> 0 | L53: =SUM(I53:K53) -> 0 | M53: =IF(H53<>L53,"DISCREPANCY","")
A54: =IF(ISBLANK('Counts-Ballots'!A54),"",'Counts-Ballots'!A54) | B54: =IF(ISBLANK('Counts-Ballots'!B54),"",'Counts-Ballots'!B54) | C54: =IF(ISBLANK('Counts-Ballots'!C54),"",'Counts-Ballots'!C54) | H54: =SUM(E54:G54) -> 0 | L54: =SUM(I54:K54) -> 0 | M54: =IF(H54<>L54,"DISCREPANCY","")
A55: =IF(ISBLANK('Counts-Ballots'!A55),"",'Counts-Ballots'!A55) | B55: =IF(ISBLANK('Counts-Ballots'!B55),"",'Counts-Ballots'!B55) | C55: =IF(ISBLANK('Counts-Ballots'!C55),"",'Counts-Ballots'!C55) | H55: =SUM(E55:G55) -> 0 | L55: =SUM(I55:K55) -> 0 | M55: =IF(H55<>L55,"DISCREPANCY","")
A56: =IF(ISBLANK('Counts-Ballots'!A56),"",'Counts-Ballots'!A56) | B56: =IF(ISBLANK('Counts-Ballots'!B56),"",'Counts-Ballots'!B56) | C56: =IF(ISBLANK('Counts-Ballots'!C56),"",'Counts-Ballots'!C56) | H56: =SUM(E56:G56) -> 0 | L56: =SUM(I56:K56) -> 0 | M56: =IF(H56<>L56,"DISCREPANCY","")
A57: =IF(ISBLANK('Counts-Ballots'!A57),"",'Counts-Ballots'!A57) | B57: =IF(ISBLANK('Counts-Ballots'!B57),"",'Counts-Ballots'!B57) | C57: =IF(ISBLANK('Counts-Ballots'!C57),"",'Counts-Ballots'!C57) | H57: =SUM(E57:G57) -> 0 | L57: =SUM(I57:K57) -> 0 | M57: =IF(H57<>L57,"DISCREPANCY","")
A58: =IF(ISBLANK('Counts-Ballots'!A58),"",'Counts-Ballots'!A58) | B58: =IF(ISBLANK('Counts-Ballots'!B58),"",'Counts-Ballots'!B58) | C58: =IF(ISBLANK('Counts-Ballots'!C58),"",'Counts-Ballots'!C58) | H58: =SUM(E58:G58) -> 0 | L58: =SUM(I58:K58) -> 0 | M58: =IF(H58<>L58,"DISCREPANCY","")
A59: =IF(ISBLANK('Counts-Ballots'!A59),"",'Counts-Ballots'!A59) | B59: =IF(ISBLANK('Counts-Ballots'!B59),"",'Counts-Ballots'!B59) | C59: =IF(ISBLANK('Counts-Ballots'!C59),"",'Counts-Ballots'!C59) | H59: =SUM(E59:G59) -> 0 | L59: =SUM(I59:K59) -> 0 | M59: =IF(H59<>L59,"DISCREPANCY","")
A60: =IF(ISBLANK('Counts-Ballots'!A60),"",'Counts-Ballots'!A60) | B60: =IF(ISBLANK('Counts-Ballots'!B60),"",'Counts-Ballots'!B60) | C60: =IF(ISBLANK('Counts-Ballots'!C60),"",'Counts-Ballots'!C60) | H60: =SUM(E60:G60) -> 0 | L60: =SUM(I60:K60) -> 0 | M60: =IF(H60<>L60,"DISCREPANCY","")
A61: =IF(ISBLANK('Counts-Ballots'!A61),"",'Counts-Ballots'!A61) | B61: =IF(ISBLANK('Counts-Ballots'!B61),"",'Counts-Ballots'!B61) | C61: =IF(ISBLANK('Counts-Ballots'!C61),"",'Counts-Ballots'!C61) | H61: =SUM(E61:G61) -> 0 | L61: =SUM(I61:K61) -> 0 | M61: =IF(H61<>L61,"DISCREPANCY","")
A62: =IF(ISBLANK('Counts-Ballots'!A62),"",'Counts-Ballots'!A62) | B62: =IF(ISBLANK('Counts-Ballots'!B62),"",'Counts-Ballots'!B62) | C62: =IF(ISBLANK('Counts-Ballots'!C62),"",'Counts-Ballots'!C62) | H62: =SUM(E62:G62) -> 0 | L62: =SUM(I62:K62) -> 0 | M62: =IF(H62<>L62,"DISCREPANCY","")
... A501: =IF(ISBLANK('Counts-Ballots'!A501),"",'Counts-Ballots'!A501) | B501: =IF(ISBLANK('Counts-Ballots'!B501),"",'Counts-Ballots'!B501) | C501: =IF(ISBLANK('Counts-Ballots'!C501),"",'Counts-Ballots'!C501) | H501: =SUM(E501:G501) -> 0 | L501: =SUM(I501:K501) -> 0 | M501: =IF(H501<>L501,"DISCREPANCY","")
H502: =SUM(E502:G502) -> 0 | L502: =SUM(I502:K502) -> 0 | M502: =IF(H502<>L502,"DISCREPANCY","")
H503: =SUM(E503:G503) -> 0 | L503: =SUM(I503:K503) -> 0 | M503: =IF(H503<>L503,"DISCREPANCY","")
H504: =SUM(E504:G504) -> 0 | L504: =SUM(I504:K504) -> 0 | M504: =IF(H504<>L504,"DISCREPANCY","")
H505: =SUM(E505:G505) -> 0 | L505: =SUM(I505:K505) -> 0 | M505: =IF(H505<>L505,"DISCREPANCY","")
H506: =SUM(E506:G506) -> 0 | L506: =SUM(I506:K506) -> 0 | M506: =IF(H506<>L506,"DISCREPANCY","")
H507: =SUM(E507:G507) -> 0 | L507: =SUM(I507:K507) -> 0 | M507: =IF(H507<>L507,"DISCREPANCY","")
H508: =SUM(E508:G508) -> 0 | L508: =SUM(I508:K508) -> 0 | M508: =IF(H508<>L508,"DISCREPANCY","")
H509: =SUM(E509:G509) -> 0 | L509: =SUM(I509:K509) -> 0 | M509: =IF(H509<>L509,"DISCREPANCY","")
H510: =SUM(E510:G510) -> 0 | L510: =SUM(I510:K510) -> 0 | M510: =IF(H510<>L510,"DISCREPANCY","")
H511: =SUM(E511:G511) -> 0 | L511: =SUM(I511:K511) -> 0 | M511: =IF(H511<>L511,"DISCREPANCY","")
H512: =SUM(E512:G512) -> 0 | L512: =SUM(I512:K512) -> 0 | M512: =IF(H512<>L512,"DISCREPANCY","")
H513: =SUM(E513:G513) -> 0 | L513: =SUM(I513:K513) -> 0 | M513: =IF(H513<>L513,"DISCREPANCY","")
... H999: =SUM(E999:G999) -> 0 | L999: =SUM(I999:K999) -> 0 | M999: =IF(H999<>L999,"DISCREPANCY","")

Sheet Additional Statewide
A1: Audit Unit: Precinct (auto-fills from sheet 2) | B1: Audit Unit: Multi-Precinct Polling Location (auto-fills from sheet 2) | C1: Audit Unit: Other (auto-fills from sheet 2) | D1: If Audit Unit is "Other" describe and explain: (auto-fills from sheet 2) | E1: Official Certification total for: Pat Fischer | F1: Official Certification total for: Colleen Mary O’Toole | G1: Auto-Fills with Total Votes from Official Certification (Columns E through K) | H1: Audit total for: Pat Fischer | I1: Audit total for: Colleen Mary O’Toole | J1: Auto-Fills with Total Votes from Audit (Columns M through S) | K1: Auto-Fills with "DISCREPANCY" if total votes from Official Certification (Column L) does not match total votes from Audit (Column T) | L1: Explain any discrepancy:
A2: =IF(ISBLANK('Counts-Ballots'!A2),"",'Counts-Ballots'!A2) | B2: =IF(ISBLANK('Counts-Ballots'!B2),"",'Counts-Ballots'!B2) | C2: =IF(ISBLANK('Counts-Ballots'!C2),"",'Counts-Ballots'!C2) | D2: =IF(ISBLANK('Counts-Ballots'!D2),"",'Counts-Ballots'!D2) | G2: =SUM(E2:F2) -> 0 | J2: =SUM(H2:I2) -> 0 | K2: =IF(G2<>J2,"DISCREPANCY","")
A3: =IF(ISBLANK('Counts-Ballots'!A3),"",'Counts-Ballots'!A3) | B3: =IF(ISBLANK('Counts-Ballots'!B3),"",'Counts-Ballots'!B3) | C3: =IF(ISBLANK('Counts-Ballots'!C3),"",'Counts-Ballots'!C3) | D3: =IF(ISBLANK('Counts-Ballots'!D3),"",'Counts-Ballots'!D3) | G3: =SUM(E3:F3) -> 0 | J3: =SUM(H3:I3) -> 0 | K3: =IF(G3<>J3,"DISCREPANCY","")
A4: =IF(ISBLANK('Counts-Ballots'!A4),"",'Counts-Ballots'!A4) | B4: =IF(ISBLANK('Counts-Ballots'!B4),"",'Counts-Ballots'!B4) | C4: =IF(ISBLANK('Counts-Ballots'!C4),"",'Counts-Ballots'!C4) | D4: =IF(ISBLANK('Counts-Ballots'!D4),"",'Counts-Ballots'!D4) | G4: =SUM(E4:F4) -> 0 | J4: =SUM(H4:I4) -> 0 | K4: =IF(G4<>J4,"DISCREPANCY","")
A5: =IF(ISBLANK('Counts-Ballots'!A5),"",'Counts-Ballots'!A5) | B5: =IF(ISBLANK('Counts-Ballots'!B5),"",'Counts-Ballots'!B5) | C5: =IF(ISBLANK('Counts-Ballots'!C5),"",'Counts-Ballots'!C5) | D5: =IF(ISBLANK('Counts-Ballots'!D5),"",'Counts-Ballots'!D5) | G5: =SUM(E5:F5) -> 0 | J5: =SUM(H5:I5) -> 0 | K5: =IF(G5<>J5,"DISCREPANCY","")
A6: =IF(ISBLANK('Counts-Ballots'!A6),"",'Counts-Ballots'!A6) | B6: =IF(ISBLANK('Counts-Ballots'!B6),"",'Counts-Ballots'!B6) | C6: =IF(ISBLANK('Counts-Ballots'!C6),"",'Counts-Ballots'!C6) | D6: =IF(ISBLANK('Counts-Ballots'!D6),"",'Counts-Ballots'!D6) | G6: =SUM(E6:F6) -> 0 | J6: =SUM(H6:I6) -> 0 | K6: =IF(G6<>J6,"DISCREPANCY","")
A7: =IF(ISBLANK('Counts-Ballots'!A7),"",'Counts-Ballots'!A7) | B7: =IF(ISBLANK('Counts-Ballots'!B7),"",'Counts-Ballots'!B7) | C7: =IF(ISBLANK('Counts-Ballots'!C7),"",'Counts-Ballots'!C7) | D7: =IF(ISBLANK('Counts-Ballots'!D7),"",'Counts-Ballots'!D7) | G7: =SUM(E7:F7) -> 0 | J7: =SUM(H7:I7) -> 0 | K7: =IF(G7<>J7,"DISCREPANCY","")
A8: =IF(ISBLANK('Counts-Ballots'!A8),"",'Counts-Ballots'!A8) | B8: =IF(ISBLANK('Counts-Ballots'!B8),"",'Counts-Ballots'!B8) | C8: =IF(ISBLANK('Counts-Ballots'!C8),"",'Counts-Ballots'!C8) | D8: =IF(ISBLANK('Counts-Ballots'!D8),"",'Counts-Ballots'!D8) | G8: =SUM(E8:F8) -> 0 | J8: =SUM(H8:I8) -> 0 | K8: =IF(G8<>J8,"DISCREPANCY","")
A9: =IF(ISBLANK('Counts-Ballots'!A9),"",'Counts-Ballots'!A9) | B9: =IF(ISBLANK('Counts-Ballots'!B9),"",'Counts-Ballots'!B9) | C9: =IF(ISBLANK('Counts-Ballots'!C9),"",'Counts-Ballots'!C9) | D9: =IF(ISBLANK('Counts-Ballots'!D9),"",'Counts-Ballots'!D9) | G9: =SUM(E9:F9) -> 0 | J9: =SUM(H9:I9) -> 0 | K9: =IF(G9<>J9,"DISCREPANCY","")
A10: =IF(ISBLANK('Counts-Ballots'!A10),"",'Counts-Ballots'!A10) | B10: =IF(ISBLANK('Counts-Ballots'!B10),"",'Counts-Ballots'!B10) | C10: =IF(ISBLANK('Counts-Ballots'!C10),"",'Counts-Ballots'!C10) | D10: =IF(ISBLANK('Counts-Ballots'!D10),"",'Counts-Ballots'!D10) | G10: =SUM(E10:F10) -> 0 | J10: =SUM(H10:I10) -> 0 | K10: =IF(G10<>J10,"DISCREPANCY","")
A11: =IF(ISBLANK('Counts-Ballots'!A11),"",'Counts-Ballots'!A11) | B11: =IF(ISBLANK('Counts-Ballots'!B11),"",'Counts-Ballots'!B11) | C11: =IF(ISBLANK('Counts-Ballots'!C11),"",'Counts-Ballots'!C11) | D11: =IF(ISBLANK('Counts-Ballots'!D11),"",'Counts-Ballots'!D11) | G11: =SUM(E11:F11) -> 0 | J11: =SUM(H11:I11) -> 0 | K11: =IF(G11<>J11,"DISCREPANCY","")
A12: =IF(ISBLANK('Counts-Ballots'!A12),"",'Counts-Ballots'!A12) | B12: =IF(ISBLANK('Counts-Ballots'!B12),"",'Counts-Ballots'!B12) | C12: =IF(ISBLANK('Counts-Ballots'!C12),"",'Counts-Ballots'!C12) | D12: =IF(ISBLANK('Counts-Ballots'!D12),"",'Counts-Ballots'!D12) | G12: =SUM(E12:F12) -> 0 | J12: =SUM(H12:I12) -> 0 | K12: =IF(G12<>J12,"DISCREPANCY","")
A13: =IF(ISBLANK('Counts-Ballots'!A13),"",'Counts-Ballots'!A13) | B13: =IF(ISBLANK('Counts-Ballots'!B13),"",'Counts-Ballots'!B13) | C13: =IF(ISBLANK('Counts-Ballots'!C13),"",'Counts-Ballots'!C13) | D13: =IF(ISBLANK('Counts-Ballots'!D13),"",'Counts-Ballots'!D13) | G13: =SUM(E13:F13) -> 0 | J13: =SUM(H13:I13) -> 0 | K13: =IF(G13<>J13,"DISCREPANCY","")
... A50: =IF(ISBLANK('Counts-Ballots'!A50),"",'Counts-Ballots'!A50) | B50: =IF(ISBLANK('Counts-Ballots'!B50),"",'Counts-Ballots'!B50) | C50: =IF(ISBLANK('Counts-Ballots'!C50),"",'Counts-Ballots'!C50) | D50: =IF(ISBLANK('Counts-Ballots'!D50),"",'Counts-Ballots'!D50) | G50: =SUM(E50:F50) -> 0 | J50: =SUM(H50:I50) -> 0 | K50: =IF(G50<>J50,"DISCREPANCY","")
A51: =IF(ISBLANK('Counts-Ballots'!A51),"",'Counts-Ballots'!A51) | B51: =IF(ISBLANK('Counts-Ballots'!B51),"",'Counts-Ballots'!B51) | C51: =IF(ISBLANK('Counts-Ballots'!C51),"",'Counts-Ballots'!C51) | G51: =SUM(E51:F51) -> 0 | J51: =SUM(H51:I51) -> 0 | K51: =IF(G51<>J51,"DISCREPANCY","")
A52: =IF(ISBLANK('Counts-Ballots'!A52),"",'Counts-Ballots'!A52) | B52: =IF(ISBLANK('Counts-Ballots'!B52),"",'Counts-Ballots'!B52) | C52: =IF(ISBLANK('Counts-Ballots'!C52),"",'Counts-Ballots'!C52) | G52: =SUM(E52:F52) -> 0 | J52: =SUM(H52:I52) -> 0 | K52: =IF(G52<>J52,"DISCREPANCY","")
A53: =IF(ISBLANK('Counts-Ballots'!A53),"",'Counts-Ballots'!A53) | B53: =IF(ISBLANK('Counts-Ballots'!B53),"",'Counts-Ballots'!B53) | C53: =IF(ISBLANK('Counts-Ballots'!C53),"",'Counts-Ballots'!C53) | G53: =SUM(E53:F53) -> 0 | J53: =SUM(H53:I53) -> 0 | K53: =IF(G53<>J53,"DISCREPANCY","")
A54: =IF(ISBLANK('Counts-Ballots'!A54),"",'Counts-Ballots'!A54) | B54: =IF(ISBLANK('Counts-Ballots'!B54),"",'Counts-Ballots'!B54) | C54: =IF(ISBLANK('Counts-Ballots'!C54),"",'Counts-Ballots'!C54) | G54: =SUM(E54:F54) -> 0 | J54: =SUM(H54:I54) -> 0 | K54: =IF(G54<>J54,"DISCREPANCY","")
A55: =IF(ISBLANK('Counts-Ballots'!A55),"",'Counts-Ballots'!A55) | B55: =IF(ISBLANK('Counts-Ballots'!B55),"",'Counts-Ballots'!B55) | C55: =IF(ISBLANK('Counts-Ballots'!C55),"",'Counts-Ballots'!C55) | G55: =SUM(E55:F55) -> 0 | J55: =SUM(H55:I55) -> 0 | K55: =IF(G55<>J55,"DISCREPANCY","")
A56: =IF(ISBLANK('Counts-Ballots'!A56),"",'Counts-Ballots'!A56) | B56: =IF(ISBLANK('Counts-Ballots'!B56),"",'Counts-Ballots'!B56) | C56: =IF(ISBLANK('Counts-Ballots'!C56),"",'Counts-Ballots'!C56) | G56: =SUM(E56:F56) -> 0 | J56: =SUM(H56:I56) -> 0 | K56: =IF(G56<>J56,"DISCREPANCY","")
A57: =IF(ISBLANK('Counts-Ballots'!A57),"",'Counts-Ballots'!A57) | B57: =IF(ISBLANK('Counts-Ballots'!B57),"",'Counts-Ballots'!B57) | C57: =IF(ISBLANK('Counts-Ballots'!C57),"",'Counts-Ballots'!C57) | G57: =SUM(E57:F57) -> 0 | J57: =SUM(H57:I57) -> 0 | K57: =IF(G57<>J57,"DISCREPANCY","")
A58: =IF(ISBLANK('Counts-Ballots'!A58),"",'Counts-Ballots'!A58) | B58: =IF(ISBLANK('Counts-Ballots'!B58),"",'Counts-Ballots'!B58) | C58: =IF(ISBLANK('Counts-Ballots'!C58),"",'Counts-Ballots'!C58) | G58: =SUM(E58:F58) -> 0 | J58: =SUM(H58:I58) -> 0 | K58: =IF(G58<>J58,"DISCREPANCY","")
A59: =IF(ISBLANK('Counts-Ballots'!A59),"",'Counts-Ballots'!A59) | B59: =IF(ISBLANK('Counts-Ballots'!B59),"",'Counts-Ballots'!B59) | C59: =IF(ISBLANK('Counts-Ballots'!C59),"",'Counts-Ballots'!C59) | G59: =SUM(E59:F59) -> 0 | J59: =SUM(H59:I59) -> 0 | K59: =IF(G59<>J59,"DISCREPANCY","")
A60: =IF(ISBLANK('Counts-Ballots'!A60),"",'Counts-Ballots'!A60) | B60: =IF(ISBLANK('Counts-Ballots'!B60),"",'Counts-Ballots'!B60) | C60: =IF(ISBLANK('Counts-Ballots'!C60),"",'Counts-Ballots'!C60) | G60: =SUM(E60:F60) -> 0 | J60: =SUM(H60:I60) -> 0 | K60: =IF(G60<>J60,"DISCREPANCY","")
A61: =IF(ISBLANK('Counts-Ballots'!A61),"",'Counts-Ballots'!A61) | B61: =IF(ISBLANK('Counts-Ballots'!B61),"",'Counts-Ballots'!B61) | C61: =IF(ISBLANK('Counts-Ballots'!C61),"",'Counts-Ballots'!C61) | G61: =SUM(E61:F61) -> 0 | J61: =SUM(H61:I61) -> 0 | K61: =IF(G61<>J61,"DISCREPANCY","")
A62: =IF(ISBLANK('Counts-Ballots'!A62),"",'Counts-Ballots'!A62) | B62: =IF(ISBLANK('Counts-Ballots'!B62),"",'Counts-Ballots'!B62) | C62: =IF(ISBLANK('Counts-Ballots'!C62),"",'Counts-Ballots'!C62) | G62: =SUM(E62:F62) -> 0 | J62: =SUM(H62:I62) -> 0 | K62: =IF(G62<>J62,"DISCREPANCY","")
... A501: =IF(ISBLANK('Counts-Ballots'!A501),"",'Counts-Ballots'!A501) | B501: =IF(ISBLANK('Counts-Ballots'!B501),"",'Counts-Ballots'!B501) | C501: =IF(ISBLANK('Counts-Ballots'!C501),"",'Counts-Ballots'!C501) | G501: =SUM(E501:F501) -> 0 | J501: =SUM(H501:I501) -> 0 | K501: =IF(G501<>J501,"DISCREPANCY","")
G502: =SUM(E502:F502) -> 0 | J502: =SUM(H502:I502) -> 0 | K502: =IF(G502<>J502,"DISCREPANCY","")
G503: =SUM(E503:F503) -> 0 | J503: =SUM(H503:I503) -> 0 | K503: =IF(G503<>J503,"DISCREPANCY","")
G504: =SUM(E504:F504) -> 0 | J504: =SUM(H504:I504) -> 0 | K504: =IF(G504<>J504,"DISCREPANCY","")
G505: =SUM(E505:F505) -> 0 | J505: =SUM(H505:I505) -> 0 | K505: =IF(G505<>J505,"DISCREPANCY","")
G506: =SUM(E506:F506) -> 0 | J506: =SUM(H506:I506) -> 0 | K506: =IF(G506<>J506,"DISCREPANCY","")
G507: =SUM(E507:F507) -> 0 | J507: =SUM(H507:I507) -> 0 | K507: =IF(G507<>J507,"DISCREPANCY","")
G508: =SUM(E508:F508) -> 0 | J508: =SUM(H508:I508) -> 0 | K508: =IF(G508<>J508,"DISCREPANCY","")
G509: =SUM(E509:F509) -> 0 | J509: =SUM(H509:I509) -> 0 | K509: =IF(G509<>J509,"DISCREPANCY","")
G510: =SUM(E510:F510) -> 0 | J510: =SUM(H510:I510) -> 0 | K510: =IF(G510<>J510,"DISCREPANCY","")
G511: =SUM(E511:F511) -> 0 | J511: =SUM(H511:I511) -> 0 | K511: =IF(G511<>J511,"DISCREPANCY","")
G512: =SUM(E512:F512) -> 0 | J512: =SUM(H512:I512) -> 0 | K512: =IF(G512<>J512,"DISCREPANCY","")
G513: =SUM(E513:F513) -> 0 | J513: =SUM(H513:I513) -> 0 | K513: =IF(G513<>J513,"DISCREPANCY","")
... G999: =SUM(E999:F999) -> 0 | J999: =SUM(H999:I999) -> 0 | K999: =IF(G999<>J999,"DISCREPANCY","")

Sheet Countywide
A1: Audit Unit: Precinct (auto-fills from sheet 2) | B1: Audit Unit: Multi-Precinct Polling Location (auto-fills from sheet 2) | C1: Audit Unit: Other (auto-fills from sheet 2) | D1: If Audit Unit is "Other" describe and explain: (auto-fills from sheet 2) | E1: Official Certification total for: | F1: Official Certification total for: | G1: Official Certification total for: | H1: Official Certification total for: | I1: Official Certification total for: | J1: Official Certification total for: | K1: Official Certification total for: | L1: Auto-Fills with Total Votes from Official Certification (Columns E through K) | M1: Audit total for: | N1: Audit total for: | O1: Audit total for: | P1: Audit total for: | Q1: Audit total for: | R1: Audit total for: | S1: Audit total for: | T1: Auto-Fills with Total Votes from Audit (Columns M through S) | U1: Auto-Fills with "DISCREPANCY" if total votes from Official Certification (Column L) does not match total votes from Audit (Column T) | V1: Explain any discrepancy:
A2: =IF(ISBLANK('Counts-Ballots'!A2),"",'Counts-Ballots'!A2) | B2: =IF(ISBLANK('Counts-Ballots'!B2),"",'Counts-Ballots'!B2) | C2: =IF(ISBLANK('Counts-Ballots'!C2),"",'Counts-Ballots'!C2) | D2: =IF(ISBLANK('Counts-Ballots'!D2),"",'Counts-Ballots'!D2) | L2: =SUM(E2:K2) -> 0 | T2: =SUM(M2:S2) -> 0 | U2: =IF(L2<>T2,"DISCREPANCY","")
A3: =IF(ISBLANK('Counts-Ballots'!A3),"",'Counts-Ballots'!A3) | B3: =IF(ISBLANK('Counts-Ballots'!B3),"",'Counts-Ballots'!B3) | C3: =IF(ISBLANK('Counts-Ballots'!C3),"",'Counts-Ballots'!C3) | D3: =IF(ISBLANK('Counts-Ballots'!D3),"",'Counts-Ballots'!D3) | L3: =SUM(E3:K3) -> 0 | T3: =SUM(M3:S3) -> 0 | U3: =IF(L3<>T3,"DISCREPANCY","")
A4: =IF(ISBLANK('Counts-Ballots'!A4),"",'Counts-Ballots'!A4) | B4: =IF(ISBLANK('Counts-Ballots'!B4),"",'Counts-Ballots'!B4) | C4: =IF(ISBLANK('Counts-Ballots'!C4),"",'Counts-Ballots'!C4) | D4: =IF(ISBLANK('Counts-Ballots'!D4),"",'Counts-Ballots'!D4) | L4: =SUM(E4:K4) -> 0 | T4: =SUM(M4:S4) -> 0 | U4: =IF(L4<>T4,"DISCREPANCY","")
A5: =IF(ISBLANK('Counts-Ballots'!A5),"",'Counts-Ballots'!A5) | B5: =IF(ISBLANK('Counts-Ballots'!B5),"",'Counts-Ballots'!B5) | C5: =IF(ISBLANK('Counts-Ballots'!C5),"",'Counts-Ballots'!C5) | D5: =IF(ISBLANK('Counts-Ballots'!D5),"",'Counts-Ballots'!D5) | L5: =SUM(E5:K5) -> 0 | T5: =SUM(M5:S5) -> 0 | U5: =IF(L5<>T5,"DISCREPANCY","")
A6: =IF(ISBLANK('Counts-Ballots'!A6),"",'Counts-Ballots'!A6) | B6: =IF(ISBLANK('Counts-Ballots'!B6),"",'Counts-Ballots'!B6) | C6: =IF(ISBLANK('Counts-Ballots'!C6),"",'Counts-Ballots'!C6) | D6: =IF(ISBLANK('Counts-Ballots'!D6),"",'Counts-Ballots'!D6) | L6: =SUM(E6:K6) -> 0 | T6: =SUM(M6:S6) -> 0 | U6: =IF(L6<>T6,"DISCREPANCY","")
A7: =IF(ISBLANK('Counts-Ballots'!A7),"",'Counts-Ballots'!A7) | B7: =IF(ISBLANK('Counts-Ballots'!B7),"",'Counts-Ballots'!B7) | C7: =IF(ISBLANK('Counts-Ballots'!C7),"",'Counts-Ballots'!C7) | D7: =IF(ISBLANK('Counts-Ballots'!D7),"",'Counts-Ballots'!D7) | L7: =SUM(E7:K7) -> 0 | T7: =SUM(M7:S7) -> 0 | U7: =IF(L7<>T7,"DISCREPANCY","")
A8: =IF(ISBLANK('Counts-Ballots'!A8),"",'Counts-Ballots'!A8) | B8: =IF(ISBLANK('Counts-Ballots'!B8),"",'Counts-Ballots'!B8) | C8: =IF(ISBLANK('Counts-Ballots'!C8),"",'Counts-Ballots'!C8) | D8: =IF(ISBLANK('Counts-Ballots'!D8),"",'Counts-Ballots'!D8) | L8: =SUM(E8:K8) -> 0 | T8: =SUM(M8:S8) -> 0 | U8: =IF(L8<>T8,"DISCREPANCY","")
A9: =IF(ISBLANK('Counts-Ballots'!A9),"",'Counts-Ballots'!A9) | B9: =IF(ISBLANK('Counts-Ballots'!B9),"",'Counts-Ballots'!B9) | C9: =IF(ISBLANK('Counts-Ballots'!C9),"",'Counts-Ballots'!C9) | D9: =IF(ISBLANK('Counts-Ballots'!D9),"",'Counts-Ballots'!D9) | L9: =SUM(E9:K9) -> 0 | T9: =SUM(M9:S9) -> 0 | U9: =IF(L9<>T9,"DISCREPANCY","")
A10: =IF(ISBLANK('Counts-Ballots'!A10),"",'Counts-Ballots'!A10) | B10: =IF(ISBLANK('Counts-Ballots'!B10),"",'Counts-Ballots'!B10) | C10: =IF(ISBLANK('Counts-Ballots'!C10),"",'Counts-Ballots'!C10) | D10: =IF(ISBLANK('Counts-Ballots'!D10),"",'Counts-Ballots'!D10) | L10: =SUM(E10:K10) -> 0 | T10: =SUM(M10:S10) -> 0 | U10: =IF(L10<>T10,"DISCREPANCY","")
A11: =IF(ISBLANK('Counts-Ballots'!A11),"",'Counts-Ballots'!A11) | B11: =IF(ISBLANK('Counts-Ballots'!B11),"",'Counts-Ballots'!B11) | C11: =IF(ISBLANK('Counts-Ballots'!C11),"",'Counts-Ballots'!C11) | D11: =IF(ISBLANK('Counts-Ballots'!D11),"",'Counts-Ballots'!D11) | L11: =SUM(E11:K11) -> 0 | T11: =SUM(M11:S11) -> 0 | U11: =IF(L11<>T11,"DISCREPANCY","")
A12: =IF(ISBLANK('Counts-Ballots'!A12),"",'Counts-Ballots'!A12) | B12: =IF(ISBLANK('Counts-Ballots'!B12),"",'Counts-Ballots'!B12) | C12: =IF(ISBLANK('Counts-Ballots'!C12),"",'Counts-Ballots'!C12) | D12: =IF(ISBLANK('Counts-Ballots'!D12),"",'Counts-Ballots'!D12) | L12: =SUM(E12:K12) -> 0 | T12: =SUM(M12:S12) -> 0 | U12: =IF(L12<>T12,"DISCREPANCY","")
A13: =IF(ISBLANK('Counts-Ballots'!A13),"",'Counts-Ballots'!A13) | B13: =IF(ISBLANK('Counts-Ballots'!B13),"",'Counts-Ballots'!B13) | C13: =IF(ISBLANK('Counts-Ballots'!C13),"",'Counts-Ballots'!C13) | D13: =IF(ISBLANK('Counts-Ballots'!D13),"",'Counts-Ballots'!D13) | L13: =SUM(E13:K13) -> 0 | T13: =SUM(M13:S13) -> 0 | U13: =IF(L13<>T13,"DISCREPANCY","")
... A50: =IF(ISBLANK('Counts-Ballots'!A50),"",'Counts-Ballots'!A50) | B50: =IF(ISBLANK('Counts-Ballots'!B50),"",'Counts-Ballots'!B50) | C50: =IF(ISBLANK('Counts-Ballots'!C50),"",'Counts-Ballots'!C50) | D50: =IF(ISBLANK('Counts-Ballots'!D50),"",'Counts-Ballots'!D50) | L50: =SUM(E50:K50) -> 0 | T50: =SUM(M50:S50) -> 0 | U50: =IF(L50<>T50,"DISCREPANCY","")
A51: =IF(ISBLANK('Counts-Ballots'!A51),"",'Counts-Ballots'!A51) | B51: =IF(ISBLANK('Counts-Ballots'!B51),"",'Counts-Ballots'!B51) | C51: =IF(ISBLANK('Counts-Ballots'!C51),"",'Counts-Ballots'!C51) | L51: =SUM(E51:K51) -> 0 | T51: =SUM(M51:S51) -> 0 | U51: =IF(L51<>T51,"DISCREPANCY","")
A52: =IF(ISBLANK('Counts-Ballots'!A52),"",'Counts-Ballots'!A52) | B52: =IF(ISBLANK('Counts-Ballots'!B52),"",'Counts-Ballots'!B52) | C52: =IF(ISBLANK('Counts-Ballots'!C52),"",'Counts-Ballots'!C52) | L52: =SUM(E52:K52) -> 0 | T52: =SUM(M52:S52) -> 0 | U52: =IF(L52<>T52,"DISCREPANCY","")
A53: =IF(ISBLANK('Counts-Ballots'!A53),"",'Counts-Ballots'!A53) | B53: =IF(ISBLANK('Counts-Ballots'!B53),"",'Counts-Ballots'!B53) | C53: =IF(ISBLANK('Counts-Ballots'!C53),"",'Counts-Ballots'!C53) | L53: =SUM(E53:K53) -> 0 | T53: =SUM(M53:S53) -> 0 | U53: =IF(L53<>T53,"DISCREPANCY","")
A54: =IF(ISBLANK('Counts-Ballots'!A54),"",'Counts-Ballots'!A54) | B54: =IF(ISBLANK('Counts-Ballots'!B54),"",'Counts-Ballots'!B54) | C54: =IF(ISBLANK('Counts-Ballots'!C54),"",'Counts-Ballots'!C54) | L54: =SUM(E54:K54) -> 0 | T54: =SUM(M54:S54) -> 0 | U54: =IF(L54<>T54,"DISCREPANCY","")
A55: =IF(ISBLANK('Counts-Ballots'!A55),"",'Counts-Ballots'!A55) | B55: =IF(ISBLANK('Counts-Ballots'!B55),"",'Counts-Ballots'!B55) | C55: =IF(ISBLANK('Counts-Ballots'!C55),"",'Counts-Ballots'!C55) | L55: =SUM(E55:K55) -> 0 | T55: =SUM(M55:S55) -> 0 | U55: =IF(L55<>T55,"DISCREPANCY","")
A56: =IF(ISBLANK('Counts-Ballots'!A56),"",'Counts-Ballots'!A56) | B56: =IF(ISBLANK('Counts-Ballots'!B56),"",'Counts-Ballots'!B56) | C56: =IF(ISBLANK('Counts-Ballots'!C56),"",'Counts-Ballots'!C56) | L56: =SUM(E56:K56) -> 0 | T56: =SUM(M56:S56) -> 0 | U56: =IF(L56<>T56,"DISCREPANCY","")
A57: =IF(ISBLANK('Counts-Ballots'!A57),"",'Counts-Ballots'!A57) | B57: =IF(ISBLANK('Counts-Ballots'!B57),"",'Counts-Ballots'!B57) | C57: =IF(ISBLANK('Counts-Ballots'!C57),"",'Counts-Ballots'!C57) | L57: =SUM(E57:K57) -> 0 | T57: =SUM(M57:S57) -> 0 | U57: =IF(L57<>T57,"DISCREPANCY","")
A58: =IF(ISBLANK('Counts-Ballots'!A58),"",'Counts-Ballots'!A58) | B58: =IF(ISBLANK('Counts-Ballots'!B58),"",'Counts-Ballots'!B58) | C58: =IF(ISBLANK('Counts-Ballots'!C58),"",'Counts-Ballots'!C58) | L58: =SUM(E58:K58) -> 0 | T58: =SUM(M58:S58) -> 0 | U58: =IF(L58<>T58,"DISCREPANCY","")
A59: =IF(ISBLANK('Counts-Ballots'!A59),"",'Counts-Ballots'!A59) | B59: =IF(ISBLANK('Counts-Ballots'!B59),"",'Counts-Ballots'!B59) | C59: =IF(ISBLANK('Counts-Ballots'!C59),"",'Counts-Ballots'!C59) | L59: =SUM(E59:K59) -> 0 | T59: =SUM(M59:S59) -> 0 | U59: =IF(L59<>T59,"DISCREPANCY","")
A60: =IF(ISBLANK('Counts-Ballots'!A60),"",'Counts-Ballots'!A60) | B60: =IF(ISBLANK('Counts-Ballots'!B60),"",'Counts-Ballots'!B60) | C60: =IF(ISBLANK('Counts-Ballots'!C60),"",'Counts-Ballots'!C60) | L60: =SUM(E60:K60) -> 0 | T60: =SUM(M60:S60) -> 0 | U60: =IF(L60<>T60,"DISCREPANCY","")
A61: =IF(ISBLANK('Counts-Ballots'!A61),"",'Counts-Ballots'!A61) | B61: =IF(ISBLANK('Counts-Ballots'!B61),"",'Counts-Ballots'!B61) | C61: =IF(ISBLANK('Counts-Ballots'!C61),"",'Counts-Ballots'!C61) | L61: =SUM(E61:K61) -> 0 | T61: =SUM(M61:S61) -> 0 | U61: =IF(L61<>T61,"DISCREPANCY","")
A62: =IF(ISBLANK('Counts-Ballots'!A62),"",'Counts-Ballots'!A62) | B62: =IF(ISBLANK('Counts-Ballots'!B62),"",'Counts-Ballots'!B62) | C62: =IF(ISBLANK('Counts-Ballots'!C62),"",'Counts-Ballots'!C62) | L62: =SUM(E62:K62) -> 0 | T62: =SUM(M62:S62) -> 0 | U62: =IF(L62<>T62,"DISCREPANCY","")
... A501: =IF(ISBLANK('Counts-Ballots'!A501),"",'Counts-Ballots'!A501) | B501: =IF(ISBLANK('Counts-Ballots'!B501),"",'Counts-Ballots'!B501) | C501: =IF(ISBLANK('Counts-Ballots'!C501),"",'Counts-Ballots'!C501) | L501: =SUM(E501:K501) -> 0 | T501: =SUM(M501:S501) -> 0 | U501: =IF(L501<>T501,"DISCREPANCY","")
L502: =SUM(E502:K502) -> 0 | T502: =SUM(M502:S502) -> 0 | U502: =IF(L502<>T502,"DISCREPANCY","")
L503: =SUM(E503:K503) -> 0 | T503: =SUM(M503:S503) -> 0 | U503: =IF(L503<>T503,"DISCREPANCY","")
L504: =SUM(E504:K504) -> 0 | T504: =SUM(M504:S504) -> 0 | U504: =IF(L504<>T504,"DISCREPANCY","")
L505: =SUM(E505:K505) -> 0 | T505: =SUM(M505:S505) -> 0 | U505: =IF(L505<>T505,"DISCREPANCY","")
L506: =SUM(E506:K506) -> 0 | T506: =SUM(M506:S506) -> 0 | U506: =IF(L506<>T506,"DISCREPANCY","")
L507: =SUM(E507:K507) -> 0 | T507: =SUM(M507:S507) -> 0 | U507: =IF(L507<>T507,"DISCREPANCY","")
L508: =SUM(E508:K508) -> 0 | T508: =SUM(M508:S508) -> 0 | U508: =IF(L508<>T508,"DISCREPANCY","")
L509: =SUM(E509:K509) -> 0 | T509: =SUM(M509:S509) -> 0 | U509: =IF(L509<>T509,"DISCREPANCY","")
L510: =SUM(E510:K510) -> 0 | T510: =SUM(M510:S510) -> 0 | U510: =IF(L510<>T510,"DISCREPANCY","")
L511: =SUM(E511:K511) -> 0 | T511: =SUM(M511:S511) -> 0 | U511: =IF(L511<>T511,"DISCREPANCY","")
L512: =SUM(E512:K512) -> 0 | T512: =SUM(M512:S512) -> 0 | U512: =IF(L512<>T512,"DISCREPANCY","")
L513: =SUM(E513:K513) -> 0 | T513: =SUM(M513:S513) -> 0 | U513: =IF(L513<>T513,"DISCREPANCY","")
... L999: =SUM(E999:K999) -> 0 | T999: =SUM(M999:S999) -> 0 | U999: =IF(L999<>T999,"DISCREPANCY","")

Sheet Subd'sQuestion-Issue
A1: Audit Unit: Precinct (auto-fills from sheet 2) | B1: Audit Unit: Multi-Precinct Polling Location (auto-fills from sheet 2) | C1: Audit Unit: Other (auto-fills from sheet 2) | D1: If Audit Unit is "Other" describe and explain: (auto-fills from sheet 2) | E1: Official Certification total for YES Issue: | F1: Official Certification total for NO Issue: | G1: Auto-Fills with Total Votes from Official Certification (Columns E through F) | H1: Audit total for YES Issue: | I1: Audit total for NO Issue: | J1: Auto-Fills with Total Votes from Audit (Columns H through I) | K1: Auto-Fills with "DISCREPANCY" if total votes from Official Certification (Column G) does not match total votes from Audit (Column J) | L1: Explain any discrepancy:
A2: =IF(ISBLANK('[1]Counts-Ballots'!A2),"",'[1]Counts-Ballots'!A2) | B2: =IF(ISBLANK('[1]Counts-Ballots'!B2),"",'[1]Counts-Ballots'!B2) | C2: =IF(ISBLANK('[1]Counts-Ballots'!C2),"",'[1]Counts-Ballots'!C2) | D2: =IF(ISBLANK('[1]Counts-Ballots'!D2),"",'[1]Counts-Ballots'!D2) | G2: =SUM(E2:F2) -> 0 | J2: =SUM(H2:I2) -> 0 | K2: =IF(G2<>J2,"DISCREPANCY","")
A3: =IF(ISBLANK('[1]Counts-Ballots'!A3),"",'[1]Counts-Ballots'!A3) | B3: =IF(ISBLANK('[1]Counts-Ballots'!B3),"",'[1]Counts-Ballots'!B3) | C3: =IF(ISBLANK('[1]Counts-Ballots'!C3),"",'[1]Counts-Ballots'!C3) | D3: =IF(ISBLANK('[1]Counts-Ballots'!D3),"",'[1]Counts-Ballots'!D3) | G3: =SUM(E3:F3) -> 0 | J3: =SUM(H3:I3) -> 0 | K3: =IF(G3<>J3,"DISCREPANCY","")
A4: =IF(ISBLANK('[1]Counts-Ballots'!A4),"",'[1]Counts-Ballots'!A4) | B4: =IF(ISBLANK('[1]Counts-Ballots'!B4),"",'[1]Counts-Ballots'!B4) | C4: =IF(ISBLANK('[1]Counts-Ballots'!C4),"",'[1]Counts-Ballots'!C4) | D4: =IF(ISBLANK('[1]Counts-Ballots'!D4),"",'[1]Counts-Ballots'!D4) | G4: =SUM(E4:F4) -> 0 | J4: =SUM(H4:I4) -> 0 | K4: =IF(G4<>J4,"DISCREPANCY","")
A5: =IF(ISBLANK('[1]Counts-Ballots'!A5),"",'[1]Counts-Ballots'!A5) | B5: =IF(ISBLANK('[1]Counts-Ballots'!B5),"",'[1]Counts-Ballots'!B5) | C5: =IF(ISBLANK('[1]Counts-Ballots'!C5),"",'[1]Counts-Ballots'!C5) | D5: =IF(ISBLANK('[1]Counts-Ballots'!D5),"",'[1]Counts-Ballots'!D5) | G5: =SUM(E5:F5) -> 0 | J5: =SUM(H5:I5) -> 0 | K5: =IF(G5<>J5,"DISCREPANCY","")
A6: =IF(ISBLANK('[1]Counts-Ballots'!A6),"",'[1]Counts-Ballots'!A6) | B6: =IF(ISBLANK('[1]Counts-Ballots'!B6),"",'[1]Counts-Ballots'!B6) | C6: =IF(ISBLANK('[1]Counts-Ballots'!C6),"",'[1]Counts-Ballots'!C6) | D6: =IF(ISBLANK('[1]Counts-Ballots'!D6),"",'[1]Counts-Ballots'!D6) | G6: =SUM(E6:F6) -> 0 | J6: =SUM(H6:I6) -> 0 | K6: =IF(G6<>J6,"DISCREPANCY","")
A7: =IF(ISBLANK('[1]Counts-Ballots'!A7),"",'[1]Counts-Ballots'!A7) | B7: =IF(ISBLANK('[1]Counts-Ballots'!B7),"",'[1]Counts-Ballots'!B7) | C7: =IF(ISBLANK('[1]Counts-Ballots'!C7),"",'[1]Counts-Ballots'!C7) | D7: =IF(ISBLANK('[1]Counts-Ballots'!D7),"",'[1]Counts-Ballots'!D7) | G7: =SUM(E7:F7) -> 0 | J7: =SUM(H7:I7) -> 0 | K7: =IF(G7<>J7,"DISCREPANCY","")
A8: =IF(ISBLANK('[1]Counts-Ballots'!A8),"",'[1]Counts-Ballots'!A8) | B8: =IF(ISBLANK('[1]Counts-Ballots'!B8),"",'[1]Counts-Ballots'!B8) | C8: =IF(ISBLANK('[1]Counts-Ballots'!C8),"",'[1]Counts-Ballots'!C8) | D8: =IF(ISBLANK('[1]Counts-Ballots'!D8),"",'[1]Counts-Ballots'!D8) | G8: =SUM(E8:F8) -> 0 | J8: =SUM(H8:I8) -> 0 | K8: =IF(G8<>J8,"DISCREPANCY","")
A9: =IF(ISBLANK('[1]Counts-Ballots'!A9),"",'[1]Counts-Ballots'!A9) | B9: =IF(ISBLANK('[1]Counts-Ballots'!B9),"",'[1]Counts-Ballots'!B9) | C9: =IF(ISBLANK('[1]Counts-Ballots'!C9),"",'[1]Counts-Ballots'!C9) | D9: =IF(ISBLANK('[1]Counts-Ballots'!D9),"",'[1]Counts-Ballots'!D9) | G9: =SUM(E9:F9) -> 0 | J9: =SUM(H9:I9) -> 0 | K9: =IF(G9<>J9,"DISCREPANCY","")
A10: =IF(ISBLANK('[1]Counts-Ballots'!A10),"",'[1]Counts-Ballots'!A10) | B10: =IF(ISBLANK('[1]Counts-Ballots'!B10),"",'[1]Counts-Ballots'!B10) | C10: =IF(ISBLANK('[1]Counts-Ballots'!C10),"",'[1]Counts-Ballots'!C10) | D10: =IF(ISBLANK('[1]Counts-Ballots'!D10),"",'[1]Counts-Ballots'!D10) | G10: =SUM(E10:F10) -> 0 | J10: =SUM(H10:I10) -> 0 | K10: =IF(G10<>J10,"DISCREPANCY","")
A11: =IF(ISBLANK('[1]Counts-Ballots'!A11),"",'[1]Counts-Ballots'!A11) | B11: =IF(ISBLANK('[1]Counts-Ballots'!B11),"",'[1]Counts-Ballots'!B11) | C11: =IF(ISBLANK('[1]Counts-Ballots'!C11),"",'[1]Counts-Ballots'!C11) | D11: =IF(ISBLANK('[1]Counts-Ballots'!D11),"",'[1]Counts-Ballots'!D11) | G11: =SUM(E11:F11) -> 0 | J11: =SUM(H11:I11) -> 0 | K11: =IF(G11<>J11,"DISCREPANCY","")
A12: =IF(ISBLANK('[1]Counts-Ballots'!A12),"",'[1]Counts-Ballots'!A12) | B12: =IF(ISBLANK('[1]Counts-Ballots'!B12),"",'[1]Counts-Ballots'!B12) | C12: =IF(ISBLANK('[1]Counts-Ballots'!C12),"",'[1]Counts-Ballots'!C12) | D12: =IF(ISBLANK('[1]Counts-Ballots'!D12),"",'[1]Counts-Ballots'!D12) | G12: =SUM(E12:F12) -> 0 | J12: =SUM(H12:I12) -> 0 | K12: =IF(G12<>J12,"DISCREPANCY","")
A13: =IF(ISBLANK('[1]Counts-Ballots'!A13),"",'[1]Counts-Ballots'!A13) | B13: =IF(ISBLANK('[1]Counts-Ballots'!B13),"",'[1]Counts-Ballots'!B13) | C13: =IF(ISBLANK('[1]Counts-Ballots'!C13),"",'[1]Counts-Ballots'!C13) | D13: =IF(ISBLANK('[1]Counts-Ballots'!D13),"",'[1]Counts-Ballots'!D13) | G13: =SUM(E13:F13) -> 0 | J13: =SUM(H13:I13) -> 0 | K13: =IF(G13<>J13,"DISCREPANCY","")
... A50: =IF(ISBLANK('[1]Counts-Ballots'!A50),"",'[1]Counts-Ballots'!A50) | B50: =IF(ISBLANK('[1]Counts-Ballots'!B50),"",'[1]Counts-Ballots'!B50) | C50: =IF(ISBLANK('[1]Counts-Ballots'!C50),"",'[1]Counts-Ballots'!C50) | D50: =IF(ISBLANK('[1]Counts-Ballots'!D50),"",'[1]Counts-Ballots'!D50) | G50: =SUM(E50:F50) -> 0 | J50: =SUM(H50:I50) -> 0 | K50: =IF(G50<>J50,"DISCREPANCY","")
A51: =IF(ISBLANK('[1]Counts-Ballots'!A51),"",'[1]Counts-Ballots'!A51) | B51: =IF(ISBLANK('[1]Counts-Ballots'!B51),"",'[1]Counts-Ballots'!B51) | C51: =IF(ISBLANK('[1]Counts-Ballots'!C51),"",'[1]Counts-Ballots'!C51) | G51: =SUM(E51:F51) -> 0 | J51: =SUM(H51:I51) -> 0 | K51: =IF(G51<>J51,"DISCREPANCY","")
A52: =IF(ISBLANK('[1]Counts-Ballots'!A52),"",'[1]Counts-Ballots'!A52) | B52: =IF(ISBLANK('[1]Counts-Ballots'!B52),"",'[1]Counts-Ballots'!B52) | C52: =IF(ISBLANK('[1]Counts-Ballots'!C52),"",'[1]Counts-Ballots'!C52) | G52: =SUM(E52:F52) -> 0 | J52: =SUM(H52:I52) -> 0 | K52: =IF(G52<>J52,"DISCREPANCY","")
A53: =IF(ISBLANK('[1]Counts-Ballots'!A53),"",'[1]Counts-Ballots'!A53) | B53: =IF(ISBLANK('[1]Counts-Ballots'!B53),"",'[1]Counts-Ballots'!B53) | C53: =IF(ISBLANK('[1]Counts-Ballots'!C53),"",'[1]Counts-Ballots'!C53) | G53: =SUM(E53:F53) -> 0 | J53: =SUM(H53:I53) -> 0 | K53: =IF(G53<>J53,"DISCREPANCY","")
A54: =IF(ISBLANK('[1]Counts-Ballots'!A54),"",'[1]Counts-Ballots'!A54) | B54: =IF(ISBLANK('[1]Counts-Ballots'!B54),"",'[1]Counts-Ballots'!B54) | C54: =IF(ISBLANK('[1]Counts-Ballots'!C54),"",'[1]Counts-Ballots'!C54) | G54: =SUM(E54:F54) -> 0 | J54: =SUM(H54:I54) -> 0 | K54: =IF(G54<>J54,"DISCREPANCY","")
A55: =IF(ISBLANK('[1]Counts-Ballots'!A55),"",'[1]Counts-Ballots'!A55) | B55: =IF(ISBLANK('[1]Counts-Ballots'!B55),"",'[1]Counts-Ballots'!B55) | C55: =IF(ISBLANK('[1]Counts-Ballots'!C55),"",'[1]Counts-Ballots'!C55) | G55: =SUM(E55:F55) -> 0 | J55: =SUM(H55:I55) -> 0 | K55: =IF(G55<>J55,"DISCREPANCY","")
A56: =IF(ISBLANK('[1]Counts-Ballots'!A56),"",'[1]Counts-Ballots'!A56) | B56: =IF(ISBLANK('[1]Counts-Ballots'!B56),"",'[1]Counts-Ballots'!B56) | C56: =IF(ISBLANK('[1]Counts-Ballots'!C56),"",'[1]Counts-Ballots'!C56) | G56: =SUM(E56:F56) -> 0 | J56: =SUM(H56:I56) -> 0 | K56: =IF(G56<>J56,"DISCREPANCY","")
A57: =IF(ISBLANK('[1]Counts-Ballots'!A57),"",'[1]Counts-Ballots'!A57) | B57: =IF(ISBLANK('[1]Counts-Ballots'!B57),"",'[1]Counts-Ballots'!B57) | C57: =IF(ISBLANK('[1]Counts-Ballots'!C57),"",'[1]Counts-Ballots'!C57) | G57: =SUM(E57:F57) -> 0 | J57: =SUM(H57:I57) -> 0 | K57: =IF(G57<>J57,"DISCREPANCY","")
A58: =IF(ISBLANK('[1]Counts-Ballots'!A58),"",'[1]Counts-Ballots'!A58) | B58: =IF(ISBLANK('[1]Counts-Ballots'!B58),"",'[1]Counts-Ballots'!B58) | C58: =IF(ISBLANK('[1]Counts-Ballots'!C58),"",'[1]Counts-Ballots'!C58) | G58: =SUM(E58:F58) -> 0 | J58: =SUM(H58:I58) -> 0 | K58: =IF(G58<>J58,"DISCREPANCY","")
A59: =IF(ISBLANK('[1]Counts-Ballots'!A59),"",'[1]Counts-Ballots'!A59) | B59: =IF(ISBLANK('[1]Counts-Ballots'!B59),"",'[1]Counts-Ballots'!B59) | C59: =IF(ISBLANK('[1]Counts-Ballots'!C59),"",'[1]Counts-Ballots'!C59) | G59: =SUM(E59:F59) -> 0 | J59: =SUM(H59:I59) -> 0 | K59: =IF(G59<>J59,"DISCREPANCY","")
A60: =IF(ISBLANK('[1]Counts-Ballots'!A60),"",'[1]Counts-Ballots'!A60) | B60: =IF(ISBLANK('[1]Counts-Ballots'!B60),"",'[1]Counts-Ballots'!B60) | C60: =IF(ISBLANK('[1]Counts-Ballots'!C60),"",'[1]Counts-Ballots'!C60) | G60: =SUM(E60:F60) -> 0 | J60: =SUM(H60:I60) -> 0 | K60: =IF(G60<>J60,"DISCREPANCY","")
A61: =IF(ISBLANK('[1]Counts-Ballots'!A61),"",'[1]Counts-Ballots'!A61) | B61: =IF(ISBLANK('[1]Counts-Ballots'!B61),"",'[1]Counts-Ballots'!B61) | C61: =IF(ISBLANK('[1]Counts-Ballots'!C61),"",'[1]Counts-Ballots'!C61) | G61: =SUM(E61:F61) -> 0 | J61: =SUM(H61:I61) -> 0 | K61: =IF(G61<>J61,"DISCREPANCY","")
A62: =IF(ISBLANK('[1]Counts-Ballots'!A62),"",'[1]Counts-Ballots'!A62) | B62: =IF(ISBLANK('[1]Counts-Ballots'!B62),"",'[1]Counts-Ballots'!B62) | C62: =IF(ISBLANK('[1]Counts-Ballots'!C62),"",'[1]Counts-Ballots'!C62) | G62: =SUM(E62:F62) -> 0 | J62: =SUM(H62:I62) -> 0 | K62: =IF(G62<>J62,"DISCREPANCY","")
... A501: =IF(ISBLANK('[1]Counts-Ballots'!A501),"",'[1]Counts-Ballots'!A501) | B501: =IF(ISBLANK('[1]Counts-Ballots'!B501),"",'[1]Counts-Ballots'!B501) | C501: =IF(ISBLANK('[1]Counts-Ballots'!C501),"",'[1]Counts-Ballots'!C501) | G501: =SUM(E501:F501) -> 0 | J501: =SUM(H501:I501) -> 0 | K501: =IF(G501<>J501,"DISCREPANCY","")
G502: =SUM(E502:F502) -> 0 | J502: =SUM(H502:I502) -> 0 | K502: =IF(G502<>J502,"DISCREPANCY","")
G503: =SUM(E503:F503) -> 0 | J503: =SUM(H503:I503) -> 0 | K503: =IF(G503<>J503,"DISCREPANCY","")
G504: =SUM(E504:F504) -> 0 | J504: =SUM(H504:I504) -> 0 | K504: =IF(G504<>J504,"DISCREPANCY","")
G505: =SUM(E505:F505) -> 0 | J505: =SUM(H505:I505) -> 0 | K505: =IF(G505<>J505,"DISCREPANCY","")
G506: =SUM(E506:F506) -> 0 | J506: =SUM(H506:I506) -> 0 | K506: =IF(G506<>J506,"DISCREPANCY","")
G507: =SUM(E507:F507) -> 0 | J507: =SUM(H507:I507) -> 0 | K507: =IF(G507<>J507,"DISCREPANCY","")
G508: =SUM(E508:F508) -> 0 | J508: =SUM(H508:I508) -> 0 | K508: =IF(G508<>J508,"DISCREPANCY","")
G509: =SUM(E509:F509) -> 0 | J509: =SUM(H509:I509) -> 0 | K509: =IF(G509<>J509,"DISCREPANCY","")
G510: =SUM(E510:F510) -> 0 | J510: =SUM(H510:I510) -> 0 | K510: =IF(G510<>J510,"DISCREPANCY","")
G511: =SUM(E511:F511) -> 0 | J511: =SUM(H511:I511) -> 0 | K511: =IF(G511<>J511,"DISCREPANCY","")
G512: =SUM(E512:F512) -> 0 | J512: =SUM(H512:I512) -> 0 | K512: =IF(G512<>J512,"DISCREPANCY","")
G513: =SUM(E513:F513) -> 0 | J513: =SUM(H513:I513) -> 0 | K513: =IF(G513<>J513,"DISCREPANCY","")
... G999: =SUM(E999:F999) -> 0 | J999: =SUM(H999:I999) -> 0 | K999: =IF(G999<>J999,"DISCREPANCY","")

Sheet Process Audit
A1: Audit Unit: Precinct (auto-fills from sheet 2) | B1: Audit Unit: Multi-Precinct Polling Location (auto-fills from sheet 2) | C1: Audit Unit: Other (auto-fills from sheet 2) | D1: If Audit Unit is "Other" describe and explain: (auto-fills from sheet 2) | E1: Place an "X" in this column if the VVPAT canister was properly sealed | F1: Place an "X" in this column if the VVPAT canister was not sealed | G1: Place an "X" in this column if the VVPAT security seal number has been tampered with or does not match the serial number recorded on election night (unless the BOE has records of needing to open and re-seal the VVPAT that show a matching serial number) | H1: Place an "X" in this column if the OS ballots were properly sealed | I1: Place an "X" in this column if the OS ballots were not properly sealed | J1: Place an "X" in this column if OS ballots to be counted were returned with a security seal that has been tampered with or does not match the serial number recorded on election night (unless the BOE has records of needing to open and re-seal that show a matching serial number) | K1: Place an "X" in this column if the precinct reconcillation sheet was incorrectly completed | L1: Place an "X" in this column if the precinct reconcillation sheet was correctly completed | M1: Place an "X" in this column if the zero report was not found or does not contain "0" voters for all candidates in the race | N1: Place an "X" in this column if the Ballot Chain of Custody form was not properly completed | O1: Place an "X" in this column if the Ballot Chain of Custody form was properly completed
A2: =IF(ISBLANK('Counts-Ballots'!A2),"",'Counts-Ballots'!A2) | B2: =IF(ISBLANK('Counts-Ballots'!B2),"",'Counts-Ballots'!B2) | C2: =IF(ISBLANK('Counts-Ballots'!C2),"",'Counts-Ballots'!C2) | D2: =IF(ISBLANK('Counts-Ballots'!D2),"",'Counts-Ballots'!D2)
A3: =IF(ISBLANK('Counts-Ballots'!A3),"",'Counts-Ballots'!A3) | B3: =IF(ISBLANK('Counts-Ballots'!B3),"",'Counts-Ballots'!B3) | C3: =IF(ISBLANK('Counts-Ballots'!C3),"",'Counts-Ballots'!C3) | D3: =IF(ISBLANK('Counts-Ballots'!D3),"",'Counts-Ballots'!D3)
A4: =IF(ISBLANK('Counts-Ballots'!A4),"",'Counts-Ballots'!A4) | B4: =IF(ISBLANK('Counts-Ballots'!B4),"",'Counts-Ballots'!B4) | C4: =IF(ISBLANK('Counts-Ballots'!C4),"",'Counts-Ballots'!C4) | D4: =IF(ISBLANK('Counts-Ballots'!D4),"",'Counts-Ballots'!D4)
A5: =IF(ISBLANK('Counts-Ballots'!A5),"",'Counts-Ballots'!A5) | B5: =IF(ISBLANK('Counts-Ballots'!B5),"",'Counts-Ballots'!B5) | C5: =IF(ISBLANK('Counts-Ballots'!C5),"",'Counts-Ballots'!C5) | D5: =IF(ISBLANK('Counts-Ballots'!D5),"",'Counts-Ballots'!D5)
A6: =IF(ISBLANK('Counts-Ballots'!A6),"",'Counts-Ballots'!A6) | B6: =IF(ISBLANK('Counts-Ballots'!B6),"",'Counts-Ballots'!B6) | C6: =IF(ISBLANK('Counts-Ballots'!C6),"",'Counts-Ballots'!C6) | D6: =IF(ISBLANK('Counts-Ballots'!D6),"",'Counts-Ballots'!D6)
A7: =IF(ISBLANK('Counts-Ballots'!A7),"",'Counts-Ballots'!A7) | B7: =IF(ISBLANK('Counts-Ballots'!B7),"",'Counts-Ballots'!B7) | C7: =IF(ISBLANK('Counts-Ballots'!C7),"",'Counts-Ballots'!C7) | D7: =IF(ISBLANK('Counts-Ballots'!D7),"",'Counts-Ballots'!D7)
A8: =IF(ISBLANK('Counts-Ballots'!A8),"",'Counts-Ballots'!A8) | B8: =IF(ISBLANK('Counts-Ballots'!B8),"",'Counts-Ballots'!B8) | C8: =IF(ISBLANK('Counts-Ballots'!C8),"",'Counts-Ballots'!C8) | D8: =IF(ISBLANK('Counts-Ballots'!D8),"",'Counts-Ballots'!D8)
A9: =IF(ISBLANK('Counts-Ballots'!A9),"",'Counts-Ballots'!A9) | B9: =IF(ISBLANK('Counts-Ballots'!B9),"",'Counts-Ballots'!B9) | C9: =IF(ISBLANK('Counts-Ballots'!C9),"",'Counts-Ballots'!C9) | D9: =IF(ISBLANK('Counts-Ballots'!D9),"",'Counts-Ballots'!D9)
A10: =IF(ISBLANK('Counts-Ballots'!A10),"",'Counts-Ballots'!A10) | B10: =IF(ISBLANK('Counts-Ballots'!B10),"",'Counts-Ballots'!B10) | C10: =IF(ISBLANK('Counts-Ballots'!C10),"",'Counts-Ballots'!C10) | D10: =IF(ISBLANK('Counts-Ballots'!D10),"",'Counts-Ballots'!D10)
A11: =IF(ISBLANK('Counts-Ballots'!A11),"",'Counts-Ballots'!A11) | B11: =IF(ISBLANK('Counts-Ballots'!B11),"",'Counts-Ballots'!B11) | C11: =IF(ISBLANK('Counts-Ballots'!C11),"",'Counts-Ballots'!C11) | D11: =IF(ISBLANK('Counts-Ballots'!D11),"",'Counts-Ballots'!D11)
A12: =IF(ISBLANK('Counts-Ballots'!A12),"",'Counts-Ballots'!A12) | B12: =IF(ISBLANK('Counts-Ballots'!B12),"",'Counts-Ballots'!B12) | C12: =IF(ISBLANK('Counts-Ballots'!C12),"",'Counts-Ballots'!C12) | D12: =IF(ISBLANK('Counts-Ballots'!D12),"",'Counts-Ballots'!D12)
A13: =IF(ISBLANK('Counts-Ballots'!A13),"",'Counts-Ballots'!A13) | B13: =IF(ISBLANK('Counts-Ballots'!B13),"",'Counts-Ballots'!B13) | C13: =IF(ISBLANK('Counts-Ballots'!C13),"",'Counts-Ballots'!C13) | D13: =IF(ISBLANK('Counts-Ballots'!D13),"",'Counts-Ballots'!D13)
... A50: =IF(ISBLANK('Counts-Ballots'!A50),"",'Counts-Ballots'!A50) | B50: =IF(ISBLANK('Counts-Ballots'!B50),"",'Counts-Ballots'!B50) | C50: =IF(ISBLANK('Counts-Ballots'!C50),"",'Counts-Ballots'!C50) | D50: =IF(ISBLANK('Counts-Ballots'!D50),"",'Counts-Ballots'!D50)
A51: =IF(ISBLANK('Counts-Ballots'!A51),"",'Counts-Ballots'!A51) | B51: =IF(ISBLANK('Counts-Ballots'!B51),"",'Counts-Ballots'!B51) | C51: =IF(ISBLANK('Counts-Ballots'!C51),"",'Counts-Ballots'!C51)
A52: =IF(ISBLANK('Counts-Ballots'!A52),"",'Counts-Ballots'!A52) | B52: =IF(ISBLANK('Counts-Ballots'!B52),"",'Counts-Ballots'!B52) | C52: =IF(ISBLANK('Counts-Ballots'!C52),"",'Counts-Ballots'!C52)
A53: =IF(ISBLANK('Counts-Ballots'!A53),"",'Counts-Ballots'!A53) | B53: =IF(ISBLANK('Counts-Ballots'!B53),"",'Counts-Ballots'!B53) | C53: =IF(ISBLANK('Counts-Ballots'!C53),"",'Counts-Ballots'!C53)
A54: =IF(ISBLANK('Counts-Ballots'!A54),"",'Counts-Ballots'!A54) | B54: =IF(ISBLANK('Counts-Ballots'!B54),"",'Counts-Ballots'!B54) | C54: =IF(ISBLANK('Counts-Ballots'!C54),"",'Counts-Ballots'!C54)
A55: =IF(ISBLANK('Counts-Ballots'!A55),"",'Counts-Ballots'!A55) | B55: =IF(ISBLANK('Counts-Ballots'!B55),"",'Counts-Ballots'!B55) | C55: =IF(ISBLANK('Counts-Ballots'!C55),"",'Counts-Ballots'!C55)
A56: =IF(ISBLANK('Counts-Ballots'!A56),"",'Counts-Ballots'!A56) | B56: =IF(ISBLANK('Counts-Ballots'!B56),"",'Counts-Ballots'!B56) | C56: =IF(ISBLANK('Counts-Ballots'!C56),"",'Counts-Ballots'!C56)
A57: =IF(ISBLANK('Counts-Ballots'!A57),"",'Counts-Ballots'!A57) | B57: =IF(ISBLANK('Counts-Ballots'!B57),"",'Counts-Ballots'!B57) | C57: =IF(ISBLANK('Counts-Ballots'!C57),"",'Counts-Ballots'!C57)
A58: =IF(ISBLANK('Counts-Ballots'!A58),"",'Counts-Ballots'!A58) | B58: =IF(ISBLANK('Counts-Ballots'!B58),"",'Counts-Ballots'!B58) | C58: =IF(ISBLANK('Counts-Ballots'!C58),"",'Counts-Ballots'!C58)
A59: =IF(ISBLANK('Counts-Ballots'!A59),"",'Counts-Ballots'!A59) | B59: =IF(ISBLANK('Counts-Ballots'!B59),"",'Counts-Ballots'!B59) | C59: =IF(ISBLANK('Counts-Ballots'!C59),"",'Counts-Ballots'!C59)
A60: =IF(ISBLANK('Counts-Ballots'!A60),"",'Counts-Ballots'!A60) | B60: =IF(ISBLANK('Counts-Ballots'!B60),"",'Counts-Ballots'!B60) | C60: =IF(ISBLANK('Counts-Ballots'!C60),"",'Counts-Ballots'!C60)
A61: =IF(ISBLANK('Counts-Ballots'!A61),"",'Counts-Ballots'!A61) | B61: =IF(ISBLANK('Counts-Ballots'!B61),"",'Counts-Ballots'!B61) | C61: =IF(ISBLANK('Counts-Ballots'!C61),"",'Counts-Ballots'!C61)
A62: =IF(ISBLANK('Counts-Ballots'!A62),"",'Counts-Ballots'!A62) | B62: =IF(ISBLANK('Counts-Ballots'!B62),"",'Counts-Ballots'!B62) | C62: =IF(ISBLANK('Counts-Ballots'!C62),"",'Counts-Ballots'!C62)
... A501: =IF(ISBLANK('Counts-Ballots'!A501),"",'Counts-Ballots'!A501) | B501: =IF(ISBLANK('Counts-Ballots'!B501),"",'Counts-Ballots'!B501) | C501: =IF(ISBLANK('Counts-Ballots'!C501),"",'Counts-Ballots'!C501)

Sheet Recommendations
A1: Recommendations for Improvements in Future Elections and Audits:
