Workbook

Sheet Count from Worksheets
B2: Individual Worksheets | I2: County Totals
B3: County # | C3: County | D3: # of Part-Petitions on the Worksheet | E3: Signatures on the Worksheet | F3: Bate Number Range Low | G3: Bate Number Range High | I3: County # | J3: County | K3: Total Part-Petitions from Worksheets | L3: Total Signatures form Worksheets
B4: 8 | C4: Brown | D4: 1 | E4: 12 | F4: 69571 | G4: 69571 | I4: 1 | J4: ADAMS | K4: 0 | L4: 0
B5: 9 | C5: Butler | D5: 37 | E5: 185 | F5: 247601 | G5: 247637 | I5: 2 | J5: ALLEN | K5: 0 | L5: 0
B6: 10 | C6: Carroll | D6: 1 | E6: 3 | F6: 10364 | G6: 10364 | I6: 3 | J6: ASHLAND | K6: 0 | L6: 0
B7: 12 | C7: Clark | D7: 11 | E7: 230 | F7: 237183 | G7: 237193 | I7: 4 | J7: ASHTABULA | K7: 0 | L7: 0
B8: 13 | C8: Clermont | D8: 18 | E8: 310 | F8: 345879 | G8: 345896 | I8: 5 | J8: ATHENS | K8: 0 | L8: 0
B9: 18 | C9: Cuyahoga | D9: 1 | E9: 1 | F9: 69572 | G9: 69572 | I9: 6 | J9: AUGLAIZE | K9: 0 | L9: 0
B10: 21 | C10: Delaware | D10: 7 | E10: 151 | F10: 345897 | G10: 345907 | I10: 7 | J10: BELMONT | K10: 0 | L10: 0
B11: 23 | C11: Fairfield | D11: 2 | E11: 4 | F11: 237195 | G11: 237196 | I11: 8 | J11: BROWN | K11: =D4 -> 1 | L11: =E4 -> 12
B12: 25 | C12: Franklin | D12: 26 | E12: 873 | F12: 551186 | G12: 551211 | I12: 9 | J12: BUTLER | K12: =D5 -> 37 | L12: =E5 -> 185
B13: 20 | C13: Defiance | D13: 1 | E13: 2 | F13: 10365 | G13: 10365 | I13: 10 | J13: CARROLL | K13: =D6 -> 1 | L13: =E6 -> 3
B14: 29 | C14: Greene | D14: 15 | E14: 360 | F14: 100920 | G14: 100934 | I14: 11 | J14: CHAMPAIGN | K14: 0 | L14: 0
B15: 31 | C15: Hamilton | D15: 105 | E15: 3220 | F15: 4637 | G15: 4741 | I15: 12 | J15: CLARK | K15: =D7 -> 11 | L15: =E7 -> 230
B16: 36 | C16: Highland | D16: 2 | E16: 10 | F16: 670 | G16: 671 | I16: 13 | J16: CLERMONT | K16: =D8 -> 18 | L16: =E8 -> 310
B17: 42 | C17: Knox | D17: 2 | E17: 44 | F17: 10366 | G17: 20367 | I17: 14 | J17: CLINTON | K17: 0 | L17: 0
B18: 45 | C18: Licking | D18: 4 | E18: 65 | F18: 69573 | G18: 69576 | I18: 15 | J18: COLUMBIANA | K18: 0 | L18: 0
B19: 46 | C19: Logan | D19: 1 | E19: 2 | F19: 418052 | G19: 418052 | I19: 16 | J19: COSHOCTON | K19: 0 | L19: 0
B20: 47 | C20: Lorain | D20: 1 | E20: 1 | F20: 100935 | G20: 100935 | I20: 17 | J20: CRAWFORD | K20: 0 | L20: 0
B21: 51 | C21: Marion | D21: 1 | E21: 4 | F21: 9401 | G21: 9401 | I21: 18 | J21: CUYAHOGA | K21: =D9 -> 1 | L21: =E9 -> 1
B22: 55 | C22: Miami | D22: 8 | E22: 20 | F22: 591 | G22: 598 | I22: 19 | J22: DARKE | K22: 0 | L22: 0
B23: 57 | C23: Montgomery | D23: 34 | E23: 928 | F23: 418018 | G23: 418051 | I23: 20 | J23: DEFIANCE | K23: =D13 -> 1 | L23: =E13 -> 2
B24: 65 | C24: Pickaway | D24: 1 | E24: 1 | F24: 418053 | G24: 418053 | I24: 21 | J24: DELAWARE | K24: =D10 -> 7 | L24: =E10 -> 151
B25: 73 | C25: Scioto | D25: 1 | E25: 38 | F25: 237198 | G25: 237198 | I25: 22 | J25: ERIE | K25: 0 | L25: 0
B26: 83 | C26: Warren | D26: 16 | E26: 71 | F26: 9381 | G26: 9396 | I26: 23 | J26: FAIRFIELD | K26: =D11 -> 2 | L26: =E11 -> 4
C27: TOTALS | D27: =SUM(D4:D26) -> 296 | E27: =SUM(E4:E26) -> 6535 | I27: 24 | J27: FAYETTE | K27: 0 | L27: 0
I28: 25 | J28: FRANKLIN | K28: =D12 -> 26 | L28: =E12 -> 873
I29: 26 | J29: FULTON | K29: 0 | L29: 0
I30: 27 | J30: GALLIA | K30: 0 | L30: 0
I31: 28 | J31: GEAUGA | K31: 0 | L31: 0
I32: 29 | J32: GREENE | K32: =D14 -> 15 | L32: =E14 -> 360
I33: 30 | J33: GUERNSEY | K33: 0 | L33: 0
I34: 31 | J34: HAMILTON | K34: =D15 -> 105 | L34: =E15 -> 3220
I35: 32 | J35: HANCOCK | K35: 0 | L35: 0
I36: 33 | J36: HARDIN | K36: 0 | L36: 0
I37: 34 | J37: HARRISON | K37: 0 | L37: 0
I38: 35 | J38: HENRY | K38: 0 | L38: 0
I39: 36 | J39: HIGHLAND | K39: =D16 -> 2 | L39: =E16 -> 10
I40: 37 | J40: HOCKING | K40: 0 | L40: 0
I41: 38 | J41: HOLMES | K41: 0 | L41: 0
...

Sheet Manifest Count - Comparison
B2: # | C2: County | D2: # of Part Petitions on SOS Count | E2: # of Signatures on SOS Count | F2: # of Part Petitions on Petitioners' Manifest | G2: # of Signatures on Petitioners' Manifest | H2: Part-Petition Comparison | I2: Signature Comparison
B3: 1 | C3: ADAMS | D3: ='Count from Worksheets'!K4 -> 0 | E3: ='Count from Worksheets'!L4 -> 0 | F3: 0 | G3: 0 | H3: =F3-D3 -> 0 | I3: =G3-E3 -> 0
B4: 2 | C4: ALLEN | D4: ='Count from Worksheets'!K5 -> 0 | E4: ='Count from Worksheets'!L5 -> 0 | F4: 0 | G4: 0 | H4: =F4-D4 -> 0 | I4: =G4-E4 -> 0
B5: 3 | C5: ASHLAND | D5: ='Count from Worksheets'!K6 -> 0 | E5: ='Count from Worksheets'!L6 -> 0 | F5: 0 | G5: 0 | H5: =F5-D5 -> 0 | I5: =G5-E5 -> 0
B6: 4 | C6: ASHTABULA | D6: ='Count from Worksheets'!K7 -> 0 | E6: ='Count from Worksheets'!L7 -> 0 | F6: 0 | G6: 0 | H6: =F6-D6 -> 0 | I6: =G6-E6 -> 0
B7: 5 | C7: ATHENS | D7: ='Count from Worksheets'!K8 -> 0 | E7: ='Count from Worksheets'!L8 -> 0 | F7: 0 | G7: 0 | H7: =F7-D7 -> 0 | I7: =G7-E7 -> 0
B8: 6 | C8: AUGLAIZE | D8: ='Count from Worksheets'!K9 -> 0 | E8: ='Count from Worksheets'!L9 -> 0 | F8: 0 | G8: 0 | H8: =F8-D8 -> 0 | I8: =G8-E8 -> 0
B9: 7 | C9: BELMONT | D9: ='Count from Worksheets'!K10 -> 0 | E9: ='Count from Worksheets'!L10 -> 0 | F9: 0 | G9: 0 | H9: =F9-D9 -> 0 | I9: =G9-E9 -> 0
B10: 8 | C10: BROWN | D10: ='Count from Worksheets'!K11 -> 1 | E10: ='Count from Worksheets'!L11 -> 12 | F10: 1 | G10: 12 | H10: =F10-D10 -> 0 | I10: =G10-E10 -> 0
B11: 9 | C11: BUTLER | D11: ='Count from Worksheets'!K12 -> 37 | E11: ='Count from Worksheets'!L12 -> 185 | F11: 37 | G11: 185 | H11: =F11-D11 -> 0 | I11: =G11-E11 -> 0
B12: 10 | C12: CARROLL | D12: ='Count from Worksheets'!K13 -> 1 | E12: ='Count from Worksheets'!L13 -> 3 | F12: 1 | G12: 3 | H12: =F12-D12 -> 0 | I12: =G12-E12 -> 0
B13: 11 | C13: CHAMPAIGN | D13: ='Count from Worksheets'!K14 -> 0 | E13: ='Count from Worksheets'!L14 -> 0 | F13: 0 | G13: 0 | H13: =F13-D13 -> 0 | I13: =G13-E13 -> 0
B14: 12 | C14: CLARK | D14: ='Count from Worksheets'!K15 -> 11 | E14: ='Count from Worksheets'!L15 -> 230 | F14: 11 | G14: 230 | H14: =F14-D14 -> 0 | I14: =G14-E14 -> 0
... B90: 88 | C90: WYANDOT | D90: ='Count from Worksheets'!K91 -> 0 | E90: ='Count from Worksheets'!L91 -> 0 | F90: 0 | G90: 0 | H90: =F90-D90 -> 0 | I90: =G90-E90 -> 0
C91: Total | D91: =SUM(D3:D90) -> 296 | E91: =SUM(E3:E90) -> 6535 | F91: =SUM(F3:F90) -> 296 | G91: =SUM(G3:G90) -> 6545 | H91: =F91-D91 -> 0 | I91: =G91-E91 -> 10
